BEGIN:VCALENDAR
VERSION:2.0
PRODID:-//wp-events-plugin.com//7.2.3.1//EN
BEGIN:VEVENT
UID:130@banesto.ch
DTSTART;TZID=Europe/Amsterdam:20240818T015300
DTEND;TZID=Europe/Amsterdam:20240818T015300
DTSTAMP:20240819T200605Z
URL:https://www.banesto.ch/events/unterstuetzung-partnerorganisation-verke
 hrsunfall/
SUMMARY:Unterstützung Partnerorganisation Verkehrsunfall
DESCRIPTION:
CATEGORIES:Missions
END:VEVENT
BEGIN:VTIMEZONE
TZID:Europe/Amsterdam
X-LIC-LOCATION:Europe/Amsterdam
BEGIN:DAYLIGHT
DTSTART:20240331T030000
TZOFFSETFROM:+0100
TZOFFSETTO:+0200
TZNAME:CEST
END:DAYLIGHT
END:VTIMEZONE
END:VCALENDAR