BEGIN:VCALENDAR
VERSION:2.0
PRODID:-//wp-events-plugin.com//7.2.3.1//EN
BEGIN:VEVENT
UID:190@banesto.ch
DTSTART;TZID=Europe/Amsterdam:20251021T180000
DTEND;TZID=Europe/Amsterdam:20251021T180000
DTSTAMP:20251021T045639Z
URL:https://www.banesto.ch/events/kader-9/
SUMMARY:Kader
DESCRIPTION:
CATEGORIES:kader
END:VEVENT
BEGIN:VTIMEZONE
TZID:Europe/Amsterdam
X-LIC-LOCATION:Europe/Amsterdam
BEGIN:DAYLIGHT
DTSTART:20250330T030000
TZOFFSETFROM:+0100
TZOFFSETTO:+0200
TZNAME:CEST
END:DAYLIGHT
END:VTIMEZONE
END:VCALENDAR